BEGIN:VCALENDAR
VERSION:2.0
PRODID:-//wp-events-plugin.com//7.2.3.1//EN
BEGIN:VEVENT
UID:20@vdh-leopoldshafen.de
DTSTART:20260620T100000Z
DTEND:20260620T220000Z
DTSTAMP:20260309T094003Z
URL:https://vdh-leopoldshafen.de/event/51-jahre-vdh-eggenstein-leopoldshaf
 en
SUMMARY:51 Jahre VDH Eggenstein-Leopoldshafen
DESCRIPTION:SAMSTAG\, 20.06.2026 FESTBEGINN: 10UHR\n\nFür das leibliche Wo
 hl ist bestens gesorgt:\n\n 	Flammkuchen Von Mariannes Flammkuchen\n 	Pomm
 es und Gegrilltes\n 	Kuchenbuffet\n 	Eis von Popice\n 	Fassbier und weiter
 e tolle\, kühle Getränke\n\nDas erwartet euch:\n\n 	Kinderprogramm\, Hü
 pfburg\, Basteltisch\n 	Gassigehen mit Hunden aus unserem Verein\n 	Mantra
 ilingsuche - lasst euch von einem Hund anhand eures Geruchs finden\n 	11 U
 hr Tunnelturnier mit tollen Preisen\n 	14 Uhr Hunderennen mit tollen Preis
 en\n 	15.30 Uhr Vorführung ASB Rettungshunde\n 	Tombola mit tollen Gewinn
 en\n 	Viele Verkaufsstände - von Deko\, über Hunde-/ Kindersachen bis zu
 m lokalen Tierschutzverein\n\nAnmeldungen zum Hunderennen und Tunnelturnie
 r vor Ort:6€\n\nAUF DEM VEREINSGELÄNDE\n\n[wpgmza id="1"]
ATTACH;FMTTYPE=image/jpeg:https://vdh-leopoldshafen.de/wp-content/uploads/
 2026/03/Bildschirmfoto-2026-03-09-um-10.39.44.png
LOCATION:Vereinsgelände VdH Eggenstein-Leopoldshafen\, Vereinsgelände\, E
 ggenstein-leopoldshafen\, 76344\, Deutschland
X-APPLE-STRUCTURED-LOCATION;VALUE=URI;X-ADDRESS=Vereinsgelände\, Eggenstei
 n-leopoldshafen\, 76344\, Deutschland;X-APPLE-RADIUS=100;X-TITLE=Vereinsge
 lände VdH Eggenstein-Leopoldshafen:geo:0,0
END:VEVENT
END:VCALENDAR